BEGIN:VCALENDAR
VERSION:2.0
PRODID:-//March On! - ECPv6.15.20//NONSGML v1.0//EN
CALSCALE:GREGORIAN
METHOD:PUBLISH
X-WR-CALNAME:March On!
X-ORIGINAL-URL:https://marchonfest.org
X-WR-CALDESC:Events for March On!
REFRESH-INTERVAL;VALUE=DURATION:PT1H
X-Robots-Tag:noindex
X-PUBLISHED-TTL:PT1H
BEGIN:VTIMEZONE
TZID:America/New_York
BEGIN:DAYLIGHT
TZOFFSETFROM:-0500
TZOFFSETTO:-0400
TZNAME:EDT
DTSTART:20240310T070000
END:DAYLIGHT
BEGIN:STANDARD
TZOFFSETFROM:-0400
TZOFFSETTO:-0500
TZNAME:EST
DTSTART:20241103T060000
END:STANDARD
BEGIN:DAYLIGHT
TZOFFSETFROM:-0500
TZOFFSETTO:-0400
TZNAME:EDT
DTSTART:20250309T070000
END:DAYLIGHT
BEGIN:STANDARD
TZOFFSETFROM:-0400
TZOFFSETTO:-0500
TZNAME:EST
DTSTART:20251102T060000
END:STANDARD
BEGIN:DAYLIGHT
TZOFFSETFROM:-0500
TZOFFSETTO:-0400
TZNAME:EDT
DTSTART:20260308T070000
END:DAYLIGHT
BEGIN:STANDARD
TZOFFSETFROM:-0400
TZOFFSETTO:-0500
TZNAME:EST
DTSTART:20261101T060000
END:STANDARD
END:VTIMEZONE
BEGIN:VEVENT
DTSTART;TZID=America/New_York:20250920T100000
DTEND;TZID=America/New_York:20250920T100000
DTSTAMP:20260421T014851
CREATED:20250625T183109Z
LAST-MODIFIED:20250912T181715Z
UID:3992-1758362400-1758362400@marchonfest.org
SUMMARY:March On! Student & Emerging Film CompetitionHosted by Opal Hope Bennett
DESCRIPTION:.
URL:https://marchonfest.org/event/march-on-student-emerging-film-competition/
CATEGORIES:In-Person
ATTACH;FMTTYPE=image/jpeg:https://marchonfest.org/wp-content/uploads/2025/06/MO_0003_Film_Competition.jpg
END:VEVENT
END:VCALENDAR